BEGIN:VCALENDAR
VERSION:2.0
PRODID:-//Udruga Feniks Split - ECPv6.15.20//NONSGML v1.0//EN
CALSCALE:GREGORIAN
METHOD:PUBLISH
X-WR-CALNAME:Udruga Feniks Split
X-ORIGINAL-URL:http://udrugafenikssplit.com
X-WR-CALDESC:Događaji za Udruga Feniks Split
REFRESH-INTERVAL;VALUE=DURATION:PT1H
X-Robots-Tag:noindex
X-PUBLISHED-TTL:PT1H
BEGIN:VTIMEZONE
TZID:UTC
BEGIN:STANDARD
TZOFFSETFROM:+0000
TZOFFSETTO:+0000
TZNAME:UTC
DTSTART:20230101T000000
END:STANDARD
END:VTIMEZONE
BEGIN:VEVENT
DTSTART;TZID=UTC:20240417T190000
DTEND;TZID=UTC:20240417T210000
DTSTAMP:20260424T132336
CREATED:20240416T103552Z
LAST-MODIFIED:20251202T103805Z
UID:8508-1713380400-1713387600@udrugafenikssplit.com
SUMMARY:Kako ne ispaliti nego komunicirati? - radionica
DESCRIPTION:U srijedu\, 17. travnja\, u 19 sati u Zoni će se održati besplatna radionica pod nazivom “Kako ne ispaliti nego komunicirati?”. Zainteresirani će\, između ostalog\, naučiti kako mogu bolje reagirati na frustraciju i bijes. \nEmocionalno teške situacije nas sve ponekad savladaju do te mjere da činimo 🤯 i govorimo 🤬 stvari koje hladne glave nikada ne bismo izgovorili i koje\, obično\, pogoršavaju situaciju. Kroz malo teorije i puno praktičnih vježbi sudionici radionice vidjet će kako izgleda uspješna komunikacija 😎. Upoznat će i neke od načina kako reagirati na frustraciju i vratiti se u ugodnije osjećaje. \nVoditeljica radionice je Mateja Črnko\, stručna suradnica i volonterka Udruge Feniks Split. Mateja je klinička psihologinja i psihodramska terapeutkinja s višegodišnjim međunarodnim iskustvom pa je ova dvosatna radionica odlična prilika za unaprijediti komunikaciju i odnose s drugima. \n👉 Zbog zadržavanja kvalitete rada obavezna je rezervacija mjesta putem prijavnice dostupne na klubzona.net/rezervacija \n📃 Radionica se provodi u sklopu projekta Centar za mlade Split kojeg u partnerstvu provode Liga za prevenciju ovisnosti\, Udruga Feniks Split te Info zona kao nositelj projekta. Projekt je sufinanciran sredstvima Središnjeg državnog ureda za demografiju i mlade. \nklubzona.net
URL:http://udrugafenikssplit.com/dogadanja/kako-ne-ispaliti-nego-komunicirati-radionica/
LOCATION:INFO ZONA\, Jerina 1\, Split\, Splitsko dalmatinska\, 21000\, Croatia (Local Name: Hrvatska)
CATEGORIES:Partnerske suradnje
ATTACH;FMTTYPE=image/jpeg:http://udrugafenikssplit.com/wp-content/uploads/2025/03/FB_IMG_1712930901364-1.jpg
ORGANIZER;CN="Udruga Feniks Split":MAILTO:info@udrugafenikssplit.com
END:VEVENT
BEGIN:VEVENT
DTSTART;TZID=UTC:20240424T190000
DTEND;TZID=UTC:20240424T210000
DTSTAMP:20260424T132336
CREATED:20240423T102927Z
LAST-MODIFIED:20251202T104249Z
UID:8503-1713985200-1713992400@udrugafenikssplit.com
SUMMARY:Kako plivati na valu romantične ljubavi? - radionica
DESCRIPTION:U srijedu\, 24. travnja\, u 19 sati u Zoni će se održati besplatna radionica pod nazivom “Kako plivati na valu romantične ljubavi?”. Kroz dvosatni program\, sudionici i sudionice radionice bolje će upoznati sebe\, istražiti svoje osjećaje te osvijestiti što je prava romantična ljubav 💘 \n💌 Bez obzira na pristupačnost informacijama\, emocionalno i spolno buđenje naših tijela je veliki tabu\, a nerealna očekivanja koja nameću mediji često predstavljaju dodatan teret. Zaljubljivanje mlade tako može odvesti do potpune ekstaze ❤️‍🔥 ili do ponora nesreće 💔 Kroz ovu radionicu mladi će dobiti podršku u upoznavanju samih sebe\, istražit će svoje osjećaje i misli te osvijestiti što je za njih dobro i ispravno\, a što nije. \nVoditeljica radionice je Mateja Črnko\, klinička psihologinja i psihodramska terapeutkinja s višegodišnjim međunarodnim iskustvom te stručna suradnica i volonterka Udruge Feniks Split. Prijavite se na ovu radionicu i naučite plivati na valu romantične ljubavi! \n👉 Zbog zadržavanja kvalitete rada obavezna je rezervacija mjesta putem prijavnice dostupne na klubzona.net/rezervacija \n📃 Radionica se provodi u sklopu projekta Centar za mlade Split kojeg u partnerstvu provode Liga za prevenciju ovisnosti\, Udruga Feniks Split te Info zona kao nositelj projekta. Projekt je sufinanciran sredstvima Središnjeg državnog ureda za demografiju i mlade. \nklubzona.net
URL:http://udrugafenikssplit.com/dogadanja/kako-plivati-na-valu-romanticne-ljubavi-radionica/
LOCATION:INFO ZONA\, Jerina 1\, Split\, Splitsko dalmatinska\, 21000\, Croatia (Local Name: Hrvatska)
CATEGORIES:Partnerske suradnje
ATTACH;FMTTYPE=image/jpeg:http://udrugafenikssplit.com/wp-content/uploads/2025/03/FB_IMG_1713887209742.jpg
ORGANIZER;CN="Udruga Feniks Split":MAILTO:info@udrugafenikssplit.com
END:VEVENT
END:VCALENDAR