BEGIN:VCALENDAR
VERSION:2.0
PRODID:-//Udruga Feniks Split - ECPv6.15.20//NONSGML v1.0//EN
CALSCALE:GREGORIAN
METHOD:PUBLISH
X-WR-CALNAME:Udruga Feniks Split
X-ORIGINAL-URL:https://udrugafenikssplit.com
X-WR-CALDESC:Događaji za Udruga Feniks Split
REFRESH-INTERVAL;VALUE=DURATION:PT1H
X-Robots-Tag:noindex
X-PUBLISHED-TTL:PT1H
BEGIN:VTIMEZONE
TZID:UTC
BEGIN:STANDARD
TZOFFSETFROM:+0000
TZOFFSETTO:+0000
TZNAME:UTC
DTSTART:20210101T000000
END:STANDARD
END:VTIMEZONE
BEGIN:VEVENT
DTSTART;TZID=UTC:20230630T190000
DTEND;TZID=UTC:20230630T210000
DTSTAMP:20260424T140947
CREATED:20230401T142454Z
LAST-MODIFIED:20251202T105940Z
UID:4159-1688151600-1688158800@udrugafenikssplit.com
SUMMARY:Grupe uzajamne podrške
DESCRIPTION:
URL:https://udrugafenikssplit.com/dogadanja/grupe-uzajamne-podrske-12/
LOCATION:Prostor Razred-a\, Ulica Slobode 29a\, Split\, 21000\, Croatia (Local Name: Hrvatska)
CATEGORIES:Projekt "Zasučimo rukave za mentalno zdravlje"
ATTACH;FMTTYPE=image/jpeg:https://udrugafenikssplit.com/wp-content/uploads/2023/04/Grupa-uzajamne-podrske.jpg
ORGANIZER;CN="Udruga Feniks Split":MAILTO:info@udrugafenikssplit.com
END:VEVENT
BEGIN:VEVENT
DTSTART;TZID=UTC:20230627T190000
DTEND;TZID=UTC:20230627T220000
DTSTAMP:20260424T140947
CREATED:20230401T140754Z
LAST-MODIFIED:20251202T103322Z
UID:4131-1687892400-1687903200@udrugafenikssplit.com
SUMMARY:Večer društvenih igara
DESCRIPTION:
URL:https://udrugafenikssplit.com/dogadanja/vecer-drustvenih-igara-20/
LOCATION:LONGFIELD PUB\, Ulica Matice hrvatske 1\, Split\, Splitsko dalmatinska\, 21000\, Croatia (Local Name: Hrvatska)
CATEGORIES:Projekt "Zasučimo rukave za mentalno zdravlje"
ATTACH;FMTTYPE=image/png:https://udrugafenikssplit.com/wp-content/uploads/2023/04/Vecer-drustvenih-igara-cover-event-bez-datuma.png
ORGANIZER;CN="Udruga Feniks Split":MAILTO:info@udrugafenikssplit.com
END:VEVENT
BEGIN:VEVENT
DTSTART;TZID=UTC:20230623T190000
DTEND;TZID=UTC:20230623T210000
DTSTAMP:20260424T140947
CREATED:20230401T142416Z
LAST-MODIFIED:20251202T105944Z
UID:4157-1687546800-1687554000@udrugafenikssplit.com
SUMMARY:Grupe uzajamne podrške
DESCRIPTION:
URL:https://udrugafenikssplit.com/dogadanja/grupe-uzajamne-podrske-11/
LOCATION:Prostor Razred-a\, Ulica Slobode 29a\, Split\, 21000\, Croatia (Local Name: Hrvatska)
CATEGORIES:Projekt "Zasučimo rukave za mentalno zdravlje"
ATTACH;FMTTYPE=image/jpeg:https://udrugafenikssplit.com/wp-content/uploads/2023/04/Grupa-uzajamne-podrske.jpg
ORGANIZER;CN="Udruga Feniks Split":MAILTO:info@udrugafenikssplit.com
END:VEVENT
BEGIN:VEVENT
DTSTART;TZID=UTC:20230620T190000
DTEND;TZID=UTC:20230620T220000
DTSTAMP:20260424T140947
CREATED:20230401T140716Z
LAST-MODIFIED:20251202T103317Z
UID:4129-1687287600-1687298400@udrugafenikssplit.com
SUMMARY:Večer društvenih igara
DESCRIPTION:
URL:https://udrugafenikssplit.com/dogadanja/vecer-drustvenih-igara-19/
LOCATION:LONGFIELD PUB\, Ulica Matice hrvatske 1\, Split\, Splitsko dalmatinska\, 21000\, Croatia (Local Name: Hrvatska)
CATEGORIES:Projekt "Zasučimo rukave za mentalno zdravlje"
ATTACH;FMTTYPE=image/png:https://udrugafenikssplit.com/wp-content/uploads/2023/04/Vecer-drustvenih-igara-cover-event-bez-datuma.png
ORGANIZER;CN="Udruga Feniks Split":MAILTO:info@udrugafenikssplit.com
END:VEVENT
BEGIN:VEVENT
DTSTART;TZID=UTC:20230616T190000
DTEND;TZID=UTC:20230616T210000
DTSTAMP:20260424T140947
CREATED:20230401T142303Z
LAST-MODIFIED:20251202T105953Z
UID:4155-1686942000-1686949200@udrugafenikssplit.com
SUMMARY:Grupe uzajamne podrške
DESCRIPTION:
URL:https://udrugafenikssplit.com/dogadanja/grupe-uzajamne-podrske-10/
LOCATION:Prostor Razred-a\, Ulica Slobode 29a\, Split\, 21000\, Croatia (Local Name: Hrvatska)
CATEGORIES:Projekt "Zasučimo rukave za mentalno zdravlje"
ATTACH;FMTTYPE=image/jpeg:https://udrugafenikssplit.com/wp-content/uploads/2023/04/Grupa-uzajamne-podrske.jpg
ORGANIZER;CN="Udruga Feniks Split":MAILTO:info@udrugafenikssplit.com
END:VEVENT
BEGIN:VEVENT
DTSTART;TZID=UTC:20230616T160000
DTEND;TZID=UTC:20230616T180000
DTSTAMP:20260424T140947
CREATED:20230913T135913Z
LAST-MODIFIED:20251202T105929Z
UID:5516-1686931200-1686938400@udrugafenikssplit.com
SUMMARY:Grupe uzajamne podrške
DESCRIPTION:
URL:https://udrugafenikssplit.com/dogadanja/grupe-uzajamne-podrske-15/
LOCATION:Prostor Razred-a\, Ulica Slobode 29a\, Split\, 21000\, Croatia (Local Name: Hrvatska)
CATEGORIES:Projekt "Zasučimo rukave za mentalno zdravlje"
ATTACH;FMTTYPE=image/png:https://udrugafenikssplit.com/wp-content/uploads/2023/09/Grupe-podrske-event.png
ORGANIZER;CN="Udruga Feniks Split":MAILTO:info@udrugafenikssplit.com
END:VEVENT
BEGIN:VEVENT
DTSTART;TZID=UTC:20230613T190000
DTEND;TZID=UTC:20230613T220000
DTSTAMP:20260424T140947
CREATED:20230401T140636Z
LAST-MODIFIED:20251202T103312Z
UID:4127-1686682800-1686693600@udrugafenikssplit.com
SUMMARY:Večer društvenih igara
DESCRIPTION:
URL:https://udrugafenikssplit.com/dogadanja/vecer-drustvenih-igara-18/
LOCATION:LONGFIELD PUB\, Ulica Matice hrvatske 1\, Split\, Splitsko dalmatinska\, 21000\, Croatia (Local Name: Hrvatska)
CATEGORIES:Projekt "Zasučimo rukave za mentalno zdravlje"
ATTACH;FMTTYPE=image/png:https://udrugafenikssplit.com/wp-content/uploads/2023/04/Vecer-drustvenih-igara-cover-event-bez-datuma.png
ORGANIZER;CN="Udruga Feniks Split":MAILTO:info@udrugafenikssplit.com
END:VEVENT
BEGIN:VEVENT
DTSTART;TZID=UTC:20230609T160000
DTEND;TZID=UTC:20230609T180000
DTSTAMP:20260424T140947
CREATED:20230913T135630Z
LAST-MODIFIED:20251202T105932Z
UID:5514-1686326400-1686333600@udrugafenikssplit.com
SUMMARY:Grupe uzajamne podrške
DESCRIPTION:
URL:https://udrugafenikssplit.com/dogadanja/grupe-uzajamne-podrske-14/
LOCATION:Prostor Razred-a\, Ulica Slobode 29a\, Split\, 21000\, Croatia (Local Name: Hrvatska)
CATEGORIES:Projekt "Zasučimo rukave za mentalno zdravlje"
ATTACH;FMTTYPE=image/png:https://udrugafenikssplit.com/wp-content/uploads/2023/09/Grupe-podrske-event.png
ORGANIZER;CN="Udruga Feniks Split":MAILTO:info@udrugafenikssplit.com
END:VEVENT
BEGIN:VEVENT
DTSTART;TZID=UTC:20230606T190000
DTEND;TZID=UTC:20230606T220000
DTSTAMP:20260424T140947
CREATED:20230401T140555Z
LAST-MODIFIED:20251202T103308Z
UID:4125-1686078000-1686088800@udrugafenikssplit.com
SUMMARY:Večer društvenih igara
DESCRIPTION:
URL:https://udrugafenikssplit.com/dogadanja/vecer-drustvenih-igara-17/
LOCATION:LONGFIELD PUB\, Ulica Matice hrvatske 1\, Split\, Splitsko dalmatinska\, 21000\, Croatia (Local Name: Hrvatska)
CATEGORIES:Projekt "Zasučimo rukave za mentalno zdravlje"
ATTACH;FMTTYPE=image/png:https://udrugafenikssplit.com/wp-content/uploads/2023/04/Vecer-drustvenih-igara-cover-event-bez-datuma.png
ORGANIZER;CN="Udruga Feniks Split":MAILTO:info@udrugafenikssplit.com
END:VEVENT
BEGIN:VEVENT
DTSTART;TZID=UTC:20230602T190000
DTEND;TZID=UTC:20230602T210000
DTSTAMP:20260424T140947
CREATED:20230401T142228Z
LAST-MODIFIED:20251202T105957Z
UID:4153-1685732400-1685739600@udrugafenikssplit.com
SUMMARY:Grupe uzajamne podrške
DESCRIPTION:
URL:https://udrugafenikssplit.com/dogadanja/grupe-uzajamne-podrske-9/
LOCATION:Prostor Razred-a\, Ulica Slobode 29a\, Split\, 21000\, Croatia (Local Name: Hrvatska)
CATEGORIES:Projekt "Zasučimo rukave za mentalno zdravlje"
ATTACH;FMTTYPE=image/jpeg:https://udrugafenikssplit.com/wp-content/uploads/2023/04/Grupa-uzajamne-podrske.jpg
ORGANIZER;CN="Udruga Feniks Split":MAILTO:info@udrugafenikssplit.com
END:VEVENT
BEGIN:VEVENT
DTSTART;TZID=UTC:20230602T160000
DTEND;TZID=UTC:20230602T180000
DTSTAMP:20260424T140947
CREATED:20230913T135414Z
LAST-MODIFIED:20251202T105936Z
UID:5511-1685721600-1685728800@udrugafenikssplit.com
SUMMARY:Grupe uzajamne podrške
DESCRIPTION:
URL:https://udrugafenikssplit.com/dogadanja/grupe-uzajamne-podrske-13/
LOCATION:Prostor Razred-a\, Ulica Slobode 29a\, Split\, 21000\, Croatia (Local Name: Hrvatska)
CATEGORIES:Projekt "Zasučimo rukave za mentalno zdravlje"
ATTACH;FMTTYPE=image/png:https://udrugafenikssplit.com/wp-content/uploads/2023/09/Grupe-podrske-event.png
ORGANIZER;CN="Udruga Feniks Split":MAILTO:info@udrugafenikssplit.com
END:VEVENT
BEGIN:VEVENT
DTSTART;TZID=UTC:20230530T190000
DTEND;TZID=UTC:20230530T220000
DTSTAMP:20260424T140947
CREATED:20230401T140520Z
LAST-MODIFIED:20251202T103301Z
UID:4123-1685473200-1685484000@udrugafenikssplit.com
SUMMARY:Večer društvenih igara
DESCRIPTION:
URL:https://udrugafenikssplit.com/dogadanja/vecer-drustvenih-igara-16/
LOCATION:LONGFIELD PUB\, Ulica Matice hrvatske 1\, Split\, Splitsko dalmatinska\, 21000\, Croatia (Local Name: Hrvatska)
CATEGORIES:Projekt "Zasučimo rukave za mentalno zdravlje"
ATTACH;FMTTYPE=image/png:https://udrugafenikssplit.com/wp-content/uploads/2023/04/Vecer-drustvenih-igara-cover-event-bez-datuma.png
ORGANIZER;CN="Udruga Feniks Split":MAILTO:info@udrugafenikssplit.com
END:VEVENT
BEGIN:VEVENT
DTSTART;TZID=UTC:20230526T190000
DTEND;TZID=UTC:20230526T210000
DTSTAMP:20260424T140947
CREATED:20230401T142150Z
LAST-MODIFIED:20251202T105959Z
UID:4151-1685127600-1685134800@udrugafenikssplit.com
SUMMARY:Grupe uzajamne podrške
DESCRIPTION:
URL:https://udrugafenikssplit.com/dogadanja/grupe-uzajamne-podrske-8/
LOCATION:Prostor Razred-a\, Ulica Slobode 29a\, Split\, 21000\, Croatia (Local Name: Hrvatska)
CATEGORIES:Projekt "Zasučimo rukave za mentalno zdravlje"
ATTACH;FMTTYPE=image/jpeg:https://udrugafenikssplit.com/wp-content/uploads/2023/04/Grupa-uzajamne-podrske.jpg
ORGANIZER;CN="Udruga Feniks Split":MAILTO:info@udrugafenikssplit.com
END:VEVENT
BEGIN:VEVENT
DTSTART;TZID=UTC:20230523T190000
DTEND;TZID=UTC:20230523T220000
DTSTAMP:20260424T140947
CREATED:20230401T140447Z
LAST-MODIFIED:20251202T103257Z
UID:4121-1684868400-1684879200@udrugafenikssplit.com
SUMMARY:Večer društvenih igara
DESCRIPTION:
URL:https://udrugafenikssplit.com/dogadanja/vecer-drustvenih-igara-15/
LOCATION:LONGFIELD PUB\, Ulica Matice hrvatske 1\, Split\, Splitsko dalmatinska\, 21000\, Croatia (Local Name: Hrvatska)
CATEGORIES:Projekt "Zasučimo rukave za mentalno zdravlje"
ATTACH;FMTTYPE=image/png:https://udrugafenikssplit.com/wp-content/uploads/2023/04/Vecer-drustvenih-igara-cover-event-bez-datuma.png
ORGANIZER;CN="Udruga Feniks Split":MAILTO:info@udrugafenikssplit.com
END:VEVENT
BEGIN:VEVENT
DTSTART;TZID=UTC:20230519T190000
DTEND;TZID=UTC:20230519T210000
DTSTAMP:20260424T140947
CREATED:20230401T142116Z
LAST-MODIFIED:20251202T110003Z
UID:4149-1684522800-1684530000@udrugafenikssplit.com
SUMMARY:Grupe uzajamne podrške
DESCRIPTION:
URL:https://udrugafenikssplit.com/dogadanja/grupe-uzajamne-podrske-7/
LOCATION:Prostor Razred-a\, Ulica Slobode 29a\, Split\, 21000\, Croatia (Local Name: Hrvatska)
CATEGORIES:Projekt "Zasučimo rukave za mentalno zdravlje"
ATTACH;FMTTYPE=image/jpeg:https://udrugafenikssplit.com/wp-content/uploads/2023/04/Grupa-uzajamne-podrske.jpg
ORGANIZER;CN="Udruga Feniks Split":MAILTO:info@udrugafenikssplit.com
END:VEVENT
BEGIN:VEVENT
DTSTART;TZID=UTC:20230516T190000
DTEND;TZID=UTC:20230516T220000
DTSTAMP:20260424T140947
CREATED:20230401T140412Z
LAST-MODIFIED:20251202T103252Z
UID:4119-1684263600-1684274400@udrugafenikssplit.com
SUMMARY:Večer društvenih igara
DESCRIPTION:
URL:https://udrugafenikssplit.com/dogadanja/vecer-drustvenih-igara-14/
LOCATION:LONGFIELD PUB\, Ulica Matice hrvatske 1\, Split\, Splitsko dalmatinska\, 21000\, Croatia (Local Name: Hrvatska)
CATEGORIES:Projekt "Zasučimo rukave za mentalno zdravlje"
ATTACH;FMTTYPE=image/png:https://udrugafenikssplit.com/wp-content/uploads/2023/04/Vecer-drustvenih-igara-cover-event-bez-datuma.png
ORGANIZER;CN="Udruga Feniks Split":MAILTO:info@udrugafenikssplit.com
END:VEVENT
BEGIN:VEVENT
DTSTART;TZID=UTC:20230512T190000
DTEND;TZID=UTC:20230512T210000
DTSTAMP:20260424T140947
CREATED:20230401T142042Z
LAST-MODIFIED:20251202T110005Z
UID:4147-1683918000-1683925200@udrugafenikssplit.com
SUMMARY:Grupe uzajamne podrške
DESCRIPTION:
URL:https://udrugafenikssplit.com/dogadanja/grupe-uzajamne-podrske-6/
LOCATION:Prostor Razred-a\, Ulica Slobode 29a\, Split\, 21000\, Croatia (Local Name: Hrvatska)
CATEGORIES:Projekt "Zasučimo rukave za mentalno zdravlje"
ATTACH;FMTTYPE=image/jpeg:https://udrugafenikssplit.com/wp-content/uploads/2023/04/Grupa-uzajamne-podrske.jpg
ORGANIZER;CN="Udruga Feniks Split":MAILTO:info@udrugafenikssplit.com
END:VEVENT
BEGIN:VEVENT
DTSTART;TZID=UTC:20230509T190000
DTEND;TZID=UTC:20230509T220000
DTSTAMP:20260424T140947
CREATED:20230401T140338Z
LAST-MODIFIED:20251202T103248Z
UID:4117-1683658800-1683669600@udrugafenikssplit.com
SUMMARY:Večer društvenih igara
DESCRIPTION:
URL:https://udrugafenikssplit.com/dogadanja/vecer-drustvenih-igara-13/
LOCATION:LONGFIELD PUB\, Ulica Matice hrvatske 1\, Split\, Splitsko dalmatinska\, 21000\, Croatia (Local Name: Hrvatska)
CATEGORIES:Projekt "Zasučimo rukave za mentalno zdravlje"
ATTACH;FMTTYPE=image/png:https://udrugafenikssplit.com/wp-content/uploads/2023/04/Vecer-drustvenih-igara-cover-event-bez-datuma.png
ORGANIZER;CN="Udruga Feniks Split":MAILTO:info@udrugafenikssplit.com
END:VEVENT
BEGIN:VEVENT
DTSTART;TZID=UTC:20230505T190000
DTEND;TZID=UTC:20230505T210000
DTSTAMP:20260424T140947
CREATED:20230401T141947Z
LAST-MODIFIED:20251202T110009Z
UID:4145-1683313200-1683320400@udrugafenikssplit.com
SUMMARY:Grupe uzajamne podrške
DESCRIPTION:
URL:https://udrugafenikssplit.com/dogadanja/grupe-uzajamne-podrske-5/
LOCATION:Prostor Razred-a\, Ulica Slobode 29a\, Split\, 21000\, Croatia (Local Name: Hrvatska)
CATEGORIES:Projekt "Zasučimo rukave za mentalno zdravlje"
ATTACH;FMTTYPE=image/jpeg:https://udrugafenikssplit.com/wp-content/uploads/2023/04/Grupa-uzajamne-podrske.jpg
ORGANIZER;CN="Udruga Feniks Split":MAILTO:info@udrugafenikssplit.com
END:VEVENT
BEGIN:VEVENT
DTSTART;TZID=UTC:20230502T190000
DTEND;TZID=UTC:20230502T220000
DTSTAMP:20260424T140947
CREATED:20230401T140258Z
LAST-MODIFIED:20251202T103244Z
UID:4115-1683054000-1683064800@udrugafenikssplit.com
SUMMARY:Večer društvenih igara
DESCRIPTION:
URL:https://udrugafenikssplit.com/dogadanja/vecer-drustvenih-igara-12/
LOCATION:LONGFIELD PUB\, Ulica Matice hrvatske 1\, Split\, Splitsko dalmatinska\, 21000\, Croatia (Local Name: Hrvatska)
CATEGORIES:Projekt "Zasučimo rukave za mentalno zdravlje"
ATTACH;FMTTYPE=image/png:https://udrugafenikssplit.com/wp-content/uploads/2023/04/Vecer-drustvenih-igara-cover-event-bez-datuma.png
ORGANIZER;CN="Udruga Feniks Split":MAILTO:info@udrugafenikssplit.com
END:VEVENT
BEGIN:VEVENT
DTSTART;TZID=UTC:20230428T190000
DTEND;TZID=UTC:20230428T210000
DTSTAMP:20260424T140947
CREATED:20230401T141849Z
LAST-MODIFIED:20251202T103240Z
UID:4143-1682708400-1682715600@udrugafenikssplit.com
SUMMARY:Grupe uzajamne podrške
DESCRIPTION:
URL:https://udrugafenikssplit.com/dogadanja/grupe-uzajamne-podrske-4/
LOCATION:Prostor Razred-a\, Ulica Slobode 29a\, Split\, 21000\, Croatia (Local Name: Hrvatska)
CATEGORIES:Projekt "Zasučimo rukave za mentalno zdravlje"
ATTACH;FMTTYPE=image/jpeg:https://udrugafenikssplit.com/wp-content/uploads/2023/04/Grupa-uzajamne-podrske.jpg
ORGANIZER;CN="Udruga Feniks Split":MAILTO:info@udrugafenikssplit.com
END:VEVENT
BEGIN:VEVENT
DTSTART;TZID=UTC:20230425T190000
DTEND;TZID=UTC:20230425T220000
DTSTAMP:20260424T140947
CREATED:20230401T140226Z
LAST-MODIFIED:20251202T103234Z
UID:4113-1682449200-1682460000@udrugafenikssplit.com
SUMMARY:Večer društvenih igara
DESCRIPTION:
URL:https://udrugafenikssplit.com/dogadanja/vecer-drustvenih-igara-11/
LOCATION:LONGFIELD PUB\, Ulica Matice hrvatske 1\, Split\, Splitsko dalmatinska\, 21000\, Croatia (Local Name: Hrvatska)
CATEGORIES:Projekt "Zasučimo rukave za mentalno zdravlje"
ATTACH;FMTTYPE=image/png:https://udrugafenikssplit.com/wp-content/uploads/2023/04/Vecer-drustvenih-igara-cover-event-bez-datuma.png
ORGANIZER;CN="Udruga Feniks Split":MAILTO:info@udrugafenikssplit.com
END:VEVENT
BEGIN:VEVENT
DTSTART;TZID=UTC:20230421T190000
DTEND;TZID=UTC:20230421T210000
DTSTAMP:20260424T140947
CREATED:20230401T141810Z
LAST-MODIFIED:20251202T110012Z
UID:4141-1682103600-1682110800@udrugafenikssplit.com
SUMMARY:Grupe uzajamne podrške
DESCRIPTION:
URL:https://udrugafenikssplit.com/dogadanja/grupe-uzajamne-podrske-3/
LOCATION:Prostor Razred-a\, Ulica Slobode 29a\, Split\, 21000\, Croatia (Local Name: Hrvatska)
CATEGORIES:Projekt "Zasučimo rukave za mentalno zdravlje"
ATTACH;FMTTYPE=image/jpeg:https://udrugafenikssplit.com/wp-content/uploads/2023/04/Grupa-uzajamne-podrske.jpg
ORGANIZER;CN="Udruga Feniks Split":MAILTO:info@udrugafenikssplit.com
END:VEVENT
BEGIN:VEVENT
DTSTART;TZID=UTC:20230418T190000
DTEND;TZID=UTC:20230418T220000
DTSTAMP:20260424T140947
CREATED:20230401T140156Z
LAST-MODIFIED:20251202T103230Z
UID:4111-1681844400-1681855200@udrugafenikssplit.com
SUMMARY:Večer društvenih igara
DESCRIPTION:
URL:https://udrugafenikssplit.com/dogadanja/vecer-drustvenih-igara-10/
LOCATION:LONGFIELD PUB\, Ulica Matice hrvatske 1\, Split\, Splitsko dalmatinska\, 21000\, Croatia (Local Name: Hrvatska)
CATEGORIES:Projekt "Zasučimo rukave za mentalno zdravlje"
ATTACH;FMTTYPE=image/png:https://udrugafenikssplit.com/wp-content/uploads/2023/04/Vecer-drustvenih-igara-cover-event-bez-datuma.png
ORGANIZER;CN="Udruga Feniks Split":MAILTO:info@udrugafenikssplit.com
END:VEVENT
BEGIN:VEVENT
DTSTART;TZID=UTC:20230414T190000
DTEND;TZID=UTC:20230414T210000
DTSTAMP:20260424T140947
CREATED:20230401T141728Z
LAST-MODIFIED:20251202T110015Z
UID:4139-1681498800-1681506000@udrugafenikssplit.com
SUMMARY:Grupe uzajamne podrške
DESCRIPTION:OBAVIJEST:\nTeška srca javljam da ćemo morati preskočiti današnji termin GRUPE UZAJAMNE PODRŠKE. \nKao što na grupama često pričamo-\nne možeš dati vode iz prazne čaše\, zato danas moram pauzirati i napuniti baterije jer sam se zatrpala s previše obaveza. Nažalost i svi kolege kofacilitatori su danas spriječeni. \nNadam se da razumijete i da ćete i vi biti nježni prema sebi! \nVidimo se idući petak! \n#ponekadmorašstati\n#podržiisebe\n#odmorjevažanzamentalnozdravlje
URL:https://udrugafenikssplit.com/dogadanja/grupe-uzajamne-podrske-2/
LOCATION:Prostor Razred-a\, Ulica Slobode 29a\, Split\, 21000\, Croatia (Local Name: Hrvatska)
CATEGORIES:Projekt "Zasučimo rukave za mentalno zdravlje"
ATTACH;FMTTYPE=image/jpeg:https://udrugafenikssplit.com/wp-content/uploads/2023/04/Grupa-uzajamne-podrske.jpg
ORGANIZER;CN="Udruga Feniks Split":MAILTO:info@udrugafenikssplit.com
END:VEVENT
BEGIN:VEVENT
DTSTART;TZID=UTC:20230411T190000
DTEND;TZID=UTC:20230411T220000
DTSTAMP:20260424T140947
CREATED:20230401T140100Z
LAST-MODIFIED:20251202T103221Z
UID:4109-1681239600-1681250400@udrugafenikssplit.com
SUMMARY:Večer društvenih igara
DESCRIPTION:
URL:https://udrugafenikssplit.com/dogadanja/vecer-drustvenih-igara-9/
LOCATION:LONGFIELD PUB\, Ulica Matice hrvatske 1\, Split\, Splitsko dalmatinska\, 21000\, Croatia (Local Name: Hrvatska)
CATEGORIES:Projekt "Zasučimo rukave za mentalno zdravlje"
ATTACH;FMTTYPE=image/png:https://udrugafenikssplit.com/wp-content/uploads/2023/04/Vecer-drustvenih-igara-cover-event-bez-datuma.png
ORGANIZER;CN="Udruga Feniks Split":MAILTO:info@udrugafenikssplit.com
END:VEVENT
BEGIN:VEVENT
DTSTART;TZID=UTC:20230407T190000
DTEND;TZID=UTC:20230407T210000
DTSTAMP:20260424T140947
CREATED:20230401T141440Z
LAST-MODIFIED:20251202T110019Z
UID:4133-1680894000-1680901200@udrugafenikssplit.com
SUMMARY:Grupe uzajamne podrške
DESCRIPTION:
URL:https://udrugafenikssplit.com/dogadanja/grupe-uzajamne-podrske/
LOCATION:Prostor Razred-a\, Ulica Slobode 29a\, Split\, 21000\, Croatia (Local Name: Hrvatska)
CATEGORIES:Projekt "Zasučimo rukave za mentalno zdravlje"
ATTACH;FMTTYPE=image/jpeg:https://udrugafenikssplit.com/wp-content/uploads/2023/04/Grupa-uzajamne-podrske.jpg
ORGANIZER;CN="Udruga Feniks Split":MAILTO:info@udrugafenikssplit.com
END:VEVENT
BEGIN:VEVENT
DTSTART;TZID=UTC:20230404T190000
DTEND;TZID=UTC:20230404T220000
DTSTAMP:20260424T140947
CREATED:20230401T135129Z
LAST-MODIFIED:20251202T103214Z
UID:4107-1680634800-1680645600@udrugafenikssplit.com
SUMMARY:Večer društvenih igara
DESCRIPTION:
URL:https://udrugafenikssplit.com/dogadanja/vecer-drustvenih-igara-8/
LOCATION:LONGFIELD PUB\, Ulica Matice hrvatske 1\, Split\, Splitsko dalmatinska\, 21000\, Croatia (Local Name: Hrvatska)
CATEGORIES:Projekt "Zasučimo rukave za mentalno zdravlje"
ATTACH;FMTTYPE=image/png:https://udrugafenikssplit.com/wp-content/uploads/2023/04/Vecer-drustvenih-igara-cover-event-bez-datuma.png
ORGANIZER;CN="Udruga Feniks Split":MAILTO:info@udrugafenikssplit.com
END:VEVENT
BEGIN:VEVENT
DTSTART;TZID=UTC:20230404T110000
DTEND;TZID=UTC:20230404T113000
DTSTAMP:20260424T140947
CREATED:20230401T130017Z
LAST-MODIFIED:20251202T103202Z
UID:4101-1680606000-1680607800@udrugafenikssplit.com
SUMMARY:Predstavljanje humanitarne akcije SITNICE DOSTOJANSTVO ZNAČE
DESCRIPTION:POKRETANJE HUMANITARNE AKCIJE “SITNICE DOSTOJANSTVO ZNAČE” ZA PRIKUPLJANJE PAKETA PODRŠKE OSOBAMA NA PSIHIJATRIJSKOM LIJEČENJU U KBC-U SPLIT\n\nUdruga za promicanje mentalnog zdravlja Feniks Split poziva vas na predstavljanje humanitarne akcije “Sitnice dostojanstvo znače”\, koje će se održati u utorak\, 4. travnja u 11 sati prostorijama The Works Coworkinga na adresi Spinčićeva ulica 2b u Splitu.\n\nNa konferenciji ćemo najaviti početak kampanje za prikupljanje donacija za pomoć osobama na psihijatrijskom liječenju u KBC-u Split\, kojima kronično nedostaju higijenske i osobne potrepštine.\n\nKampanju su već podržale brojne organizacije\, poduzeća i pojedinci. O tome\, kao i razlozima i ciljevima kampanje\, informirat će vas pokretači ove registrirane humanitarne akcije te podržavatelji.\n\nSUDIONICI:\nMarina Vidović – predsjednica udruge Feniks Split\, peer stručnjakinja i pokretačica humanitarne akcije\nTomislav Franić- izv.prof.prim.dr.sc.dr.med.\, specijalist psihijatar\, subspecijalist dječje i adolescentne psihijatrije; subspecijalist forenzičke psihijatrije\, psihijatar na Klinici za psihijatriju KBC- a Split\nIris Marin Prižmić – magistra sestrinstva\, Glavna sestra odjela za integrativnu psihijatriju pri KBC Split\nDina Levačić – daljinska plivačica\, najmlađa žena koja je preplivala svih 7 svjetskih tjesnaca\, magistra edukacijske rehabilitacije\, volonterka Udruge Feniks Split\nTina Sirotić – voditeljica Službe za društveno odgovorno bankarstvo Erste banke\n\nNakon predstavljanja humanitarne akcije\, odgovorit ćemo na sva novinarska pitanja te\, po potrebi\, dati pojedinačne izjave za medije.\nU očekivanju vašeg dolaska\, srdačan pozdrav.\nKontakt: +385 91 232 1401\, Željko Erceg
URL:https://udrugafenikssplit.com/dogadanja/predstavljanje-humanitarne-akcije-sitnice-dostojanstvo-znace/
LOCATION:The Works Coworking\, Spinčićeva ul. 2b\, Split\, Splitsko dalmatinska\, 21000\, Croatia (Local Name: Hrvatska)
CATEGORIES:Sitnice dostojanstvo znače,Volonterske akcije i aktivnosti
ATTACH;FMTTYPE=image/png:https://udrugafenikssplit.com/wp-content/uploads/2023/04/Vizual-FB-cover.png
ORGANIZER;CN="Udruga Feniks Split":MAILTO:info@udrugafenikssplit.com
END:VEVENT
BEGIN:VEVENT
DTSTART;TZID=UTC:20221119T110000
DTEND;TZID=UTC:20221120T140000
DTSTAMP:20260424T140947
CREATED:20221026T134044Z
LAST-MODIFIED:20221026T140522Z
UID:3651-1668855600-1668952800@udrugafenikssplit.com
SUMMARY:Radno-okupacijske radionice - LIKOVNA RADIONICA #4
DESCRIPTION:
URL:https://udrugafenikssplit.com/dogadanja/radno-okupacijske-radionice-likovna-radionica-4/
LOCATION:The Works Coworking\, Spinčićeva ul. 2b\, Split\, Splitsko dalmatinska\, 21000\, Croatia (Local Name: Hrvatska)
CATEGORIES:Projekt "Zasučimo rukave za mentalno zdravlje"
ATTACH;FMTTYPE=image/png:https://udrugafenikssplit.com/wp-content/uploads/2022/10/Likovna-radionica-4.png
ORGANIZER;CN="Udruga Feniks Split":MAILTO:info@udrugafenikssplit.com
END:VEVENT
END:VCALENDAR