BEGIN:VCALENDAR
VERSION:2.0
PRODID:-//Udruga Feniks Split - ECPv6.15.20//NONSGML v1.0//EN
CALSCALE:GREGORIAN
METHOD:PUBLISH
X-WR-CALNAME:Udruga Feniks Split
X-ORIGINAL-URL:https://udrugafenikssplit.com
X-WR-CALDESC:Događaji za Udruga Feniks Split
REFRESH-INTERVAL;VALUE=DURATION:PT1H
X-Robots-Tag:noindex
X-PUBLISHED-TTL:PT1H
BEGIN:VTIMEZONE
TZID:UTC
BEGIN:STANDARD
TZOFFSETFROM:+0000
TZOFFSETTO:+0000
TZNAME:UTC
DTSTART:20210101T000000
END:STANDARD
END:VTIMEZONE
BEGIN:VTIMEZONE
TZID:Europe/Zagreb
BEGIN:DAYLIGHT
TZOFFSETFROM:+0100
TZOFFSETTO:+0200
TZNAME:CEST
DTSTART:20210328T010000
END:DAYLIGHT
BEGIN:STANDARD
TZOFFSETFROM:+0200
TZOFFSETTO:+0100
TZNAME:CET
DTSTART:20211031T010000
END:STANDARD
BEGIN:DAYLIGHT
TZOFFSETFROM:+0100
TZOFFSETTO:+0200
TZNAME:CEST
DTSTART:20220327T010000
END:DAYLIGHT
BEGIN:STANDARD
TZOFFSETFROM:+0200
TZOFFSETTO:+0100
TZNAME:CET
DTSTART:20221030T010000
END:STANDARD
BEGIN:DAYLIGHT
TZOFFSETFROM:+0100
TZOFFSETTO:+0200
TZNAME:CEST
DTSTART:20230326T010000
END:DAYLIGHT
BEGIN:STANDARD
TZOFFSETFROM:+0200
TZOFFSETTO:+0100
TZNAME:CET
DTSTART:20231029T010000
END:STANDARD
END:VTIMEZONE
BEGIN:VEVENT
DTSTART;TZID=UTC:20220910T170000
DTEND;TZID=UTC:20220910T210000
DTSTAMP:20260424T200454
CREATED:20220909T192843Z
LAST-MODIFIED:20220909T193223Z
UID:3492-1662829200-1662843600@udrugafenikssplit.com
SUMMARY:Obilježavanje Svjetskog dana prevencije suicida\, 10.09.2022.
DESCRIPTION:U subotu\, 10. rujna diljem svijeta se obilježava Svjetski dan prevencije suicida s ciljem podizanja svijesti u javnosti o ovom sve većem problemu među stanovništvom. Volonteri Udruge Feniks Split i ostali sugrađani koji nam se budu voljni priključiti planiraju na ovaj dan kao i protekle 2 godine godine našim sugrađanima podijelili cvijeće uz pripadajuće osnažujuće poruke u spomen na osobe koje su tijekom prošle godine u Hrvatskoj preminule počinivši suicid. Godišnje u svijetu samoubojstvo počini gotovo milijun ljudi\, a brojka se svake godine povećava. Dijeleći točno određeni broj cvjetova želimo na simboličan način u javnosti povećati svijest o važnosti i učestalosti ovog problema\, kao i naglasiti da se iza navedene statistike nalaze stvarni ljudi koji nisu vidjeli drugog načina za bijeg od patnje koju su osjećali. U protekloj godini u Hrvatskoj 572 osobe su preminule od suicida. Članovima njihovih obitelji statistika je 100 %.\n\nIstraživanja su pokazala kako socijalna izolacija povećava rizik samoubojstva\, dok\, naprotiv\, jake veze među ljudima djeluju kao čimbenici zaštite. Pokazati da nam je stalo\, slušati bez osuđivanja\, jednostavno biti tu za nekoga može biti ključan čimbenik kod pojedinaca koji su vulnerabilni i zapravo predstavljati čin spašavanja života.\nNo ne treba zaboraviti na neophodnost stručne pomoći i/ili liječenja.\n\nVizija naše udruge je da damo svoj doprinos kako bismo stvorili društvo koje će ranjenima i usamljenima pružiti ruku podrške\, u kojem za svakog ima mjesta!\n\nZato Vam se obraćam da nam pomognete kako bismo uspješno realizirali ovu akciju.\n\nŽelimo podijeliti 572 cvijeta kako bi nastavila rasti uspomena na osobe kojih bolno više među nama nema\, nadamo se da ćete nam se priključiti u Đardinu u 17 sati i dati ruke da pošaljemo ovu važnu poruku u našem gradu.\n\nŽelimo proširiti svjesnost o važnosti podrške u zajednici osobama koji se nose s depresijom i sličnim mentalnim oboljenjima\, podijeliti kontakt informacije za podršku takvim osobama te poslati poruku kako uvijek ima nade i da u svakom od nas čući nevjerojatna snaga čak i kad se čini da je sve bezizlazno\, posebno kad smo tu jedni za druge.\n\nBit ćemo na 3 lokacije u gradu Splitu: na dnu Marmontove ulice\, na Pjaci i na Rivi kod Fro-a.\n\nUkoliko nam se imate volje priključiti dobro ste nam došli! Javite nam se u inbox za detalje ili samo dođite na lice mjesta.\nUdruga Feniks Split djeluje na volonterskoj osnovi i pruža besplatnu podršku osobama s mentalnim poteškoćama.\nSvi koji trebaju pomoć mogu nam se s povjerenjem obratiti u inbox udruge\, uključiti se u našu online i istoimenu grupu podrške uživo ili nam pisati na mail udruga.feniks.st@gmail.com\n\nUkoliko želite donirati kako bismo kupili cvijeće i ostalo potrebno za događaj to možete učiniti na broj računa:\nIban: HR8124840081135155359\nuz napomenu- donacija za javnu akciju\n————————————————————————-\nUkoliko ste vi ili netko vama blizak u suicidalnom stanju možete nazvati Centar za krizna stanja i prevenciju suicida pri KBC-u Zagreb\nTelefon: 01-2376-470 od 0 do 24 sata\nIli se obratiti mailom Udruzi Životna linija :\npomoc@pomoc.hr\n\n#prevencijasuicida #svjetskidanprevencijesuicida #mentalnozdravlje #udrugafenikssplit #podrška #sjećanje\n\nOva je akcija dio aktivnosti projekta: “Zasučimo rukave za mentalno zdravlje” financiranog od strane Ministarstva zdravstva\, Grada Splita i Županije Splitsko-dalmatinske\, te Zaklade Solidarna i projekta “Puna mi je kapa!” financiranog od strane Grada Splita \, ali sadržaj same aktivnosti je isključiva odgovornost Udruge Feniks Split te ni na koji način ne odražava stavove Ministarstva zdravstva.
URL:https://udrugafenikssplit.com/dogadanja/obiljezavanje-svjetskog-dana-prevencije-suicida-10-09-2022/
LOCATION:Đardin\, Split\, Park Josipa Jurja Strossmayera\, Split\, Splitsko dalmatinska\, 21000\, Croatia (Local Name: Hrvatska)
CATEGORIES:Projekt "Zasučimo rukave za mentalno zdravlje"
ATTACH;FMTTYPE=image/jpeg:https://udrugafenikssplit.com/wp-content/uploads/2022/09/Dan-prevencije-suicida.jpg
ORGANIZER;CN="Udruga Feniks Split":MAILTO:info@udrugafenikssplit.com
END:VEVENT
BEGIN:VEVENT
DTSTART;VALUE=DATE:20220820
DTEND;VALUE=DATE:20220822
DTSTAMP:20260424T200454
CREATED:20220809T085316Z
LAST-MODIFIED:20220816T205508Z
UID:3426-1660953600-1661126399@udrugafenikssplit.com
SUMMARY:Edukativna radionica "Kako ojačati rezilijentnost na stres u svakodnevnom životu"
DESCRIPTION:Voditeljica radionice je Željka Radnić\, koja se nakon što je diplomirala na Filozofskom fakultetu i stekla iskustvo volontirajući u Dječjem domu\, zapošljava u školi\, a zatim nastavlja svoje obrazovanje za psihoterapeuta. Danas u Centru Mezzo kroz individualno savjetovanje i psihoterapiju pruža podršku pojedincima na njihovom putu razvoja. \nŽeljka je članica Hrvatske komore psihoterapeuta\, certificirani Wingwave coach\, suosnivačica Klupka resursa te kolumnistica na Split Tech Cityju. \nSmatra da je društvo satkano od pojedinaca i njihovih akcija te kako svaki pojedinac treba pokretati inicijative kako bi došlo do pomaka unutar društva. \nUživa u učenju te vjeruje kako svatko od nas ima sve resurse kako bi ostvario svoj potencijal. \nRadionica je dio projekta Zasučimo rukave za mentalno zdravlje. Iako je prvenstveno namijenjena za osobe s mentalnim poteškoćama na nju su dobrodošli i svi ostali sugrađani kojima bi mogla biti korisna \nNa njoj ćeš saznati:\n– što je stres\n– kako stres utječe na tebe\, tvoje zdravlje i odnose\n– koji su izvori stresa\n– što je rezilijentnost i njene dimenzije\n– kako (o)jačati rezilijentnost\n– konkretne tehnike za smirivanje u stresnim situacijama\n-dobro se zabaviti u izvrsnom društvu
URL:https://udrugafenikssplit.com/dogadanja/edukativna-radionica-kako-ojacati-rezilijentnost-na-stres-u-svakodnevnom-zivotu/
LOCATION:Prostor MKC-a Razred\, Ulica slobode 28\, Split\, Splitsko dalmatinska\, 21000\, Croatia (Local Name: Hrvatska)
CATEGORIES:Projekt "Zasučimo rukave za mentalno zdravlje"
ATTACH;FMTTYPE=image/jpeg:https://udrugafenikssplit.com/wp-content/uploads/2022/08/298950376_727179451677845_6866254696171209004_n.jpg
ORGANIZER;CN="Udruga Feniks Split":MAILTO:info@udrugafenikssplit.com
END:VEVENT
BEGIN:VEVENT
DTSTART;TZID=UTC:20220817T190000
DTEND;TZID=UTC:20220817T220000
DTSTAMP:20260424T200454
CREATED:20220816T192732Z
LAST-MODIFIED:20220816T192732Z
UID:3448-1660762800-1660773600@udrugafenikssplit.com
SUMMARY:Večer društvenih igara
DESCRIPTION:
URL:https://udrugafenikssplit.com/dogadanja/vecer-drustvenih-igara-7/
LOCATION:LONGFIELD PUB\, Ulica Matice hrvatske 1\, Split\, Splitsko dalmatinska\, 21000\, Croatia (Local Name: Hrvatska)
CATEGORIES:Projekt "Zasučimo rukave za mentalno zdravlje"
ATTACH;FMTTYPE=image/png:https://udrugafenikssplit.com/wp-content/uploads/2022/08/Vecer-drustvenih-igara-cover-event-170822.png
ORGANIZER;CN="Udruga Feniks Split":MAILTO:info@udrugafenikssplit.com
END:VEVENT
BEGIN:VEVENT
DTSTART;TZID=UTC:20220810T190000
DTEND;TZID=UTC:20220810T220000
DTSTAMP:20260424T200454
CREATED:20220712T155737Z
LAST-MODIFIED:20220727T130854Z
UID:3373-1660158000-1660168800@udrugafenikssplit.com
SUMMARY:Večer društvenih igara
DESCRIPTION:
URL:https://udrugafenikssplit.com/dogadanja/vecer-drustvenih-igara-6/
LOCATION:LONGFIELD PUB\, Ulica Matice hrvatske 1\, Split\, Splitsko dalmatinska\, 21000\, Croatia (Local Name: Hrvatska)
CATEGORIES:Projekt "Zasučimo rukave za mentalno zdravlje"
ATTACH;FMTTYPE=image/png:https://udrugafenikssplit.com/wp-content/uploads/2022/07/Vecer-drustvenih-igara-cover-event-100822.png
ORGANIZER;CN="Udruga Feniks Split":MAILTO:info@udrugafenikssplit.com
END:VEVENT
BEGIN:VEVENT
DTSTART;TZID=UTC:20220803T190000
DTEND;TZID=UTC:20220803T220000
DTSTAMP:20260424T200454
CREATED:20220712T155642Z
LAST-MODIFIED:20220727T130916Z
UID:3371-1659553200-1659564000@udrugafenikssplit.com
SUMMARY:Večer društvenih igara
DESCRIPTION:
URL:https://udrugafenikssplit.com/dogadanja/vecer-drustvenih-igara-5/
LOCATION:LONGFIELD PUB\, Ulica Matice hrvatske 1\, Split\, Splitsko dalmatinska\, 21000\, Croatia (Local Name: Hrvatska)
CATEGORIES:Projekt "Zasučimo rukave za mentalno zdravlje"
ATTACH;FMTTYPE=image/png:https://udrugafenikssplit.com/wp-content/uploads/2022/07/Vecer-drustvenih-igara-cover-event-030822.png
ORGANIZER;CN="Udruga Feniks Split":MAILTO:info@udrugafenikssplit.com
END:VEVENT
BEGIN:VEVENT
DTSTART;TZID=UTC:20220727T190000
DTEND;TZID=UTC:20220727T220000
DTSTAMP:20260424T200454
CREATED:20220712T155528Z
LAST-MODIFIED:20220727T130944Z
UID:3369-1658948400-1658959200@udrugafenikssplit.com
SUMMARY:Večer društvenih igara
DESCRIPTION:
URL:https://udrugafenikssplit.com/dogadanja/vecer-drustvenih-igara-4/
LOCATION:LONGFIELD PUB\, Ulica Matice hrvatske 1\, Split\, Splitsko dalmatinska\, 21000\, Croatia (Local Name: Hrvatska)
CATEGORIES:Projekt "Zasučimo rukave za mentalno zdravlje"
ATTACH;FMTTYPE=image/png:https://udrugafenikssplit.com/wp-content/uploads/2022/07/Vecer-drustvenih-igara-cover-event-270722.png
ORGANIZER;CN="Udruga Feniks Split":MAILTO:info@udrugafenikssplit.com
END:VEVENT
BEGIN:VEVENT
DTSTART;TZID=UTC:20220720T190000
DTEND;TZID=UTC:20220720T220000
DTSTAMP:20260424T200454
CREATED:20220712T155437Z
LAST-MODIFIED:20220712T155437Z
UID:3367-1658343600-1658354400@udrugafenikssplit.com
SUMMARY:Večer društvenih igara
DESCRIPTION:
URL:https://udrugafenikssplit.com/dogadanja/vecer-drustvenih-igara-3/
LOCATION:LONGFIELD PUB\, Ulica Matice hrvatske 1\, Split\, Splitsko dalmatinska\, 21000\, Croatia (Local Name: Hrvatska)
CATEGORIES:Projekt "Zasučimo rukave za mentalno zdravlje"
ATTACH;FMTTYPE=image/png:https://udrugafenikssplit.com/wp-content/uploads/2022/07/Vecer-drustvenih-igara-cover-event-200722.png
ORGANIZER;CN="Udruga Feniks Split":MAILTO:info@udrugafenikssplit.com
END:VEVENT
BEGIN:VEVENT
DTSTART;TZID=Europe/Zagreb:20220715T100000
DTEND;TZID=Europe/Zagreb:20220715T160000
DTSTAMP:20260424T200454
CREATED:20220708T164116Z
LAST-MODIFIED:20220709T095345Z
UID:3197-1657879200-1657900800@udrugafenikssplit.com
SUMMARY:IPS TRENING UŽIVO
DESCRIPTION:
URL:https://udrugafenikssplit.com/dogadanja/ips-trening-uzivo/
LOCATION:MKC i Platforma Doma Mladih\, Ulica Slobode 29a\, Split\, 21000\, Croatia (Local Name: Hrvatska)
CATEGORIES:Projekt "Zasučimo rukave za mentalno zdravlje"
ATTACH;FMTTYPE=image/png:https://udrugafenikssplit.com/wp-content/uploads/2022/07/IPS-trening-UZIVO-FB-post.png
ORGANIZER;CN="Udruga Feniks Split":MAILTO:info@udrugafenikssplit.com
END:VEVENT
BEGIN:VEVENT
DTSTART;TZID=UTC:20220713T190000
DTEND;TZID=UTC:20220713T220000
DTSTAMP:20260424T200454
CREATED:20220712T155248Z
LAST-MODIFIED:20220712T155342Z
UID:3360-1657738800-1657749600@udrugafenikssplit.com
SUMMARY:Večer društvenih igara
DESCRIPTION:
URL:https://udrugafenikssplit.com/dogadanja/vecer-drustvenih-igara-2/
LOCATION:LONGFIELD PUB\, Ulica Matice hrvatske 1\, Split\, Splitsko dalmatinska\, 21000\, Croatia (Local Name: Hrvatska)
CATEGORIES:Projekt "Zasučimo rukave za mentalno zdravlje"
ATTACH;FMTTYPE=image/png:https://udrugafenikssplit.com/wp-content/uploads/2022/07/Vecer-drustvenih-igara-cover-event-130722.png
ORGANIZER;CN="Udruga Feniks Split":MAILTO:info@udrugafenikssplit.com
END:VEVENT
BEGIN:VEVENT
DTSTART;TZID=UTC:20220605T100000
DTEND;TZID=UTC:20220605T170000
DTSTAMP:20260424T200454
CREATED:20220531T193106Z
LAST-MODIFIED:20220531T193554Z
UID:3118-1654423200-1654448400@udrugafenikssplit.com
SUMMARY:Radno-okupacijske radionice - STOLARSKA RADIONICA #6
DESCRIPTION:
URL:https://udrugafenikssplit.com/dogadanja/radno-okupacijske-radionice-stolarska-radionica-6/
LOCATION:Osnovna škola “Skalice” Split\, Put Skalica 18\, Split\, Splitsko dalmatinska\, 21000\, Croatia (Local Name: Hrvatska)
CATEGORIES:Projekt "Zasučimo rukave za mentalno zdravlje"
ATTACH;FMTTYPE=image/png:https://udrugafenikssplit.com/wp-content/uploads/2022/05/Stolarska6.png
ORGANIZER;CN="Udruga Feniks Split":MAILTO:info@udrugafenikssplit.com
END:VEVENT
BEGIN:VEVENT
DTSTART;TZID=UTC:20220604T160000
DTEND;TZID=UTC:20220604T200000
DTSTAMP:20260424T200454
CREATED:20220531T191747Z
LAST-MODIFIED:20220531T191747Z
UID:3112-1654358400-1654372800@udrugafenikssplit.com
SUMMARY:Radno-okupacijske radionice - VRTLARSKA RADIONICA #7
DESCRIPTION:
URL:https://udrugafenikssplit.com/dogadanja/radno-okupacijske-radionice-vrtlarska-radionica-7/
LOCATION:Osnovna škola “Skalice” Split\, Put Skalica 18\, Split\, Splitsko dalmatinska\, 21000\, Croatia (Local Name: Hrvatska)
CATEGORIES:Projekt "Zasučimo rukave za mentalno zdravlje"
ATTACH;FMTTYPE=image/png:https://udrugafenikssplit.com/wp-content/uploads/2022/05/Vrtlarska7.png
ORGANIZER;CN="Udruga Feniks Split":MAILTO:info@udrugafenikssplit.com
END:VEVENT
BEGIN:VEVENT
DTSTART;TZID=UTC:20220601T190000
DTEND;TZID=UTC:20220601T220000
DTSTAMP:20260424T200454
CREATED:20220531T191901Z
LAST-MODIFIED:20220531T192347Z
UID:3111-1654110000-1654120800@udrugafenikssplit.com
SUMMARY:Večer društvenih igara
DESCRIPTION:
URL:https://udrugafenikssplit.com/dogadanja/vecer-drustvenih-igara/
LOCATION:LONGFIELD PUB\, Ulica Matice hrvatske 1\, Split\, Splitsko dalmatinska\, 21000\, Croatia (Local Name: Hrvatska)
CATEGORIES:Projekt "Zasučimo rukave za mentalno zdravlje"
ATTACH;FMTTYPE=image/png:https://udrugafenikssplit.com/wp-content/uploads/2022/05/Vecer-drustvenih-igara-cover-event-010622.png
ORGANIZER;CN="Udruga Feniks Split":MAILTO:info@udrugafenikssplit.com
END:VEVENT
BEGIN:VEVENT
DTSTART;TZID=UTC:20220529T100000
DTEND;TZID=UTC:20220529T170000
DTSTAMP:20260424T200454
CREATED:20220525T170213Z
LAST-MODIFIED:20220525T170213Z
UID:3045-1653818400-1653843600@udrugafenikssplit.com
SUMMARY:Radno-okupacijske radionice - STOLARSKA RADIONICA #5
DESCRIPTION:
URL:https://udrugafenikssplit.com/dogadanja/radno-okupacijske-radionice-stolarska-radionica-5/
LOCATION:Osnovna škola “Skalice” Split\, Put Skalica 18\, Split\, Splitsko dalmatinska\, 21000\, Croatia (Local Name: Hrvatska)
CATEGORIES:Projekt "Zasučimo rukave za mentalno zdravlje"
ATTACH;FMTTYPE=image/png:https://udrugafenikssplit.com/wp-content/uploads/2022/05/Stolarska5.png
ORGANIZER;CN="Udruga Feniks Split":MAILTO:info@udrugafenikssplit.com
END:VEVENT
BEGIN:VEVENT
DTSTART;TZID=UTC:20220528T160000
DTEND;TZID=UTC:20220528T200000
DTSTAMP:20260424T200454
CREATED:20220525T170039Z
LAST-MODIFIED:20220525T170039Z
UID:3046-1653753600-1653768000@udrugafenikssplit.com
SUMMARY:Radno-okupacijske radionice - VRTLARSKA RADIONICA #6
DESCRIPTION:
URL:https://udrugafenikssplit.com/dogadanja/radno-okupacijske-radionice-vrtlarska-radionica-6/
LOCATION:Osnovna škola “Skalice” Split\, Put Skalica 18\, Split\, Splitsko dalmatinska\, 21000\, Croatia (Local Name: Hrvatska)
CATEGORIES:Projekt "Zasučimo rukave za mentalno zdravlje"
ATTACH;FMTTYPE=image/png:https://udrugafenikssplit.com/wp-content/uploads/2022/05/Vrtlarska6.png
ORGANIZER;CN="Udruga Feniks Split":MAILTO:info@udrugafenikssplit.com
END:VEVENT
BEGIN:VEVENT
DTSTART;TZID=UTC:20220522T100000
DTEND;TZID=UTC:20220522T170000
DTSTAMP:20260424T200454
CREATED:20220518T180039Z
LAST-MODIFIED:20220518T180039Z
UID:2968-1653213600-1653238800@udrugafenikssplit.com
SUMMARY:Radno-okupacijske radionice - STOLARSKA RADIONICA #4
DESCRIPTION:
URL:https://udrugafenikssplit.com/dogadanja/radno-okupacijske-radionice-stolarska-radionica-4/
LOCATION:Osnovna škola “Skalice” Split\, Put Skalica 18\, Split\, Splitsko dalmatinska\, 21000\, Croatia (Local Name: Hrvatska)
CATEGORIES:Projekt "Zasučimo rukave za mentalno zdravlje"
ATTACH;FMTTYPE=image/png:https://udrugafenikssplit.com/wp-content/uploads/2022/05/Stolarska4.png
ORGANIZER;CN="Udruga Feniks Split":MAILTO:info@udrugafenikssplit.com
END:VEVENT
BEGIN:VEVENT
DTSTART;TZID=UTC:20220521T160000
DTEND;TZID=UTC:20220521T200000
DTSTAMP:20260424T200454
CREATED:20220518T180153Z
LAST-MODIFIED:20220518T180153Z
UID:2969-1653148800-1653163200@udrugafenikssplit.com
SUMMARY:Radno-okupacijske radionice - VRTLARSKA RADIONICA #5
DESCRIPTION:
URL:https://udrugafenikssplit.com/dogadanja/radno-okupacijske-radionice-vrtlarska-radionica-5/
LOCATION:Osnovna škola “Skalice” Split\, Put Skalica 18\, Split\, Splitsko dalmatinska\, 21000\, Croatia (Local Name: Hrvatska)
CATEGORIES:Projekt "Zasučimo rukave za mentalno zdravlje"
ATTACH;FMTTYPE=image/png:https://udrugafenikssplit.com/wp-content/uploads/2022/05/Vrtlarska5.png
ORGANIZER;CN="Udruga Feniks Split":MAILTO:info@udrugafenikssplit.com
END:VEVENT
BEGIN:VEVENT
DTSTART;TZID=UTC:20220515T100000
DTEND;TZID=UTC:20220515T170000
DTSTAMP:20260424T200454
CREATED:20220512T182529Z
LAST-MODIFIED:20220512T182529Z
UID:2950-1652608800-1652634000@udrugafenikssplit.com
SUMMARY:Radno-okupacijske radionice - STOLARSKA RADIONICA #3
DESCRIPTION:
URL:https://udrugafenikssplit.com/dogadanja/radno-okupacijske-radionice-stolarska-radionica-3/
LOCATION:Osnovna škola “Skalice” Split\, Put Skalica 18\, Split\, Splitsko dalmatinska\, 21000\, Croatia (Local Name: Hrvatska)
CATEGORIES:Projekt "Zasučimo rukave za mentalno zdravlje"
ATTACH;FMTTYPE=image/png:https://udrugafenikssplit.com/wp-content/uploads/2022/05/Radno-okupacijske-FB-cover-event-stolarska-3.png
ORGANIZER;CN="Udruga Feniks Split":MAILTO:info@udrugafenikssplit.com
END:VEVENT
BEGIN:VEVENT
DTSTART;TZID=UTC:20220514T100000
DTEND;TZID=UTC:20220514T150000
DTSTAMP:20260424T200454
CREATED:20220512T182705Z
LAST-MODIFIED:20220512T182705Z
UID:2951-1652522400-1652540400@udrugafenikssplit.com
SUMMARY:Radno-okupacijske radionice - VRTLARSKA RADIONICA #4
DESCRIPTION:
URL:https://udrugafenikssplit.com/dogadanja/radno-okupacijske-radionice-vrtlarska-radionica-4/
LOCATION:Osnovna škola “Skalice” Split\, Put Skalica 18\, Split\, Splitsko dalmatinska\, 21000\, Croatia (Local Name: Hrvatska)
CATEGORIES:Projekt "Zasučimo rukave za mentalno zdravlje"
ATTACH;FMTTYPE=image/png:https://udrugafenikssplit.com/wp-content/uploads/2022/05/Radno-okupacijske-FB-event-vrtlarska-4.png
ORGANIZER;CN="Udruga Feniks Split":MAILTO:info@udrugafenikssplit.com
END:VEVENT
BEGIN:VEVENT
DTSTART;TZID=UTC:20220508T100000
DTEND;TZID=UTC:20220508T170000
DTSTAMP:20260424T200454
CREATED:20220502T185145Z
LAST-MODIFIED:20220502T185304Z
UID:2854-1652004000-1652029200@udrugafenikssplit.com
SUMMARY:Radno-okupacijske radionice - STOLARSKA RADIONICA #2
DESCRIPTION:
URL:https://udrugafenikssplit.com/dogadanja/radno-okupacijske-radionice-stolarska-radionica-2/
LOCATION:Osnovna škola “Skalice” Split\, Put Skalica 18\, Split\, Splitsko dalmatinska\, 21000\, Croatia (Local Name: Hrvatska)
CATEGORIES:Projekt "Zasučimo rukave za mentalno zdravlje"
ATTACH;FMTTYPE=image/png:https://udrugafenikssplit.com/wp-content/uploads/2022/05/Radno-okupacijske-FB-cover-event-stolarska-br-2.png
ORGANIZER;CN="Udruga Feniks Split":MAILTO:info@udrugafenikssplit.com
END:VEVENT
BEGIN:VEVENT
DTSTART;TZID=UTC:20220507T100000
DTEND;TZID=UTC:20220507T150000
DTSTAMP:20260424T200454
CREATED:20220502T185029Z
LAST-MODIFIED:20220502T185331Z
UID:2848-1651917600-1651935600@udrugafenikssplit.com
SUMMARY:Radno-okupacijske radionice - VRTLARSKA RADIONICA #3
DESCRIPTION:
URL:https://udrugafenikssplit.com/dogadanja/radno-okupacijske-radionice-vrtlarska-radionica-3/
LOCATION:Osnovna škola “Skalice” Split\, Put Skalica 18\, Split\, Splitsko dalmatinska\, 21000\, Croatia (Local Name: Hrvatska)
CATEGORIES:Projekt "Zasučimo rukave za mentalno zdravlje"
ATTACH;FMTTYPE=image/png:https://udrugafenikssplit.com/wp-content/uploads/2022/05/Radno-okupacijske-FB-event-vrtlarska-3.png
ORGANIZER;CN="Udruga Feniks Split":MAILTO:info@udrugafenikssplit.com
END:VEVENT
BEGIN:VEVENT
DTSTART;TZID=UTC:20220416T100000
DTEND;TZID=UTC:20220416T150000
DTSTAMP:20260424T200454
CREATED:20220413T103201Z
LAST-MODIFIED:20220413T110843Z
UID:2722-1650103200-1650121200@udrugafenikssplit.com
SUMMARY:Radno-okupacijske radionice - VRTLARSKA RADIONICA #2
DESCRIPTION:
URL:https://udrugafenikssplit.com/dogadanja/radno-okupacijske-radionice-vrtlarska-radionica-2/
LOCATION:Osnovna škola “Skalice” Split\, Put Skalica 18\, Split\, Splitsko dalmatinska\, 21000\, Croatia (Local Name: Hrvatska)
CATEGORIES:Projekt "Zasučimo rukave za mentalno zdravlje"
ATTACH;FMTTYPE=image/png:https://udrugafenikssplit.com/wp-content/uploads/2022/04/Radno-okupacijske-FB-event-vrtlarska-br-2.png
ORGANIZER;CN="Udruga Feniks Split":MAILTO:info@udrugafenikssplit.com
END:VEVENT
BEGIN:VEVENT
DTSTART;TZID=UTC:20220410T100000
DTEND;TZID=UTC:20220410T170000
DTSTAMP:20260424T200454
CREATED:20220408T183611Z
LAST-MODIFIED:20220408T195932Z
UID:2442-1649584800-1649610000@udrugafenikssplit.com
SUMMARY:Radno-okupacijske radionice - STOLARSKA RADIONICA #1
DESCRIPTION:
URL:https://udrugafenikssplit.com/dogadanja/radno-okupacijske-radionice-stolarska-radionica-1/
LOCATION:Osnovna škola “Skalice” Split\, Put Skalica 18\, Split\, Splitsko dalmatinska\, 21000\, Croatia (Local Name: Hrvatska)
CATEGORIES:Projekt "Zasučimo rukave za mentalno zdravlje"
ATTACH;FMTTYPE=image/png:https://udrugafenikssplit.com/wp-content/uploads/2022/04/Radno-okupacijske-FB-cover-event-stolarska-br-1.png
ORGANIZER;CN="Udruga Feniks Split":MAILTO:info@udrugafenikssplit.com
END:VEVENT
BEGIN:VEVENT
DTSTART;TZID=UTC:20220409T100000
DTEND;TZID=UTC:20220409T150000
DTSTAMP:20260424T200454
CREATED:20220408T200423Z
LAST-MODIFIED:20220408T200631Z
UID:2454-1649498400-1649516400@udrugafenikssplit.com
SUMMARY:Radno-okupacijske radionice - VRTLARSKA RADIONICA #1
DESCRIPTION:
URL:https://udrugafenikssplit.com/dogadanja/radno-okupacijske-radionice-vrtlarska-radionica-1/
LOCATION:Osnovna škola “Skalice” Split\, Put Skalica 18\, Split\, Splitsko dalmatinska\, 21000\, Croatia (Local Name: Hrvatska)
CATEGORIES:Projekt "Zasučimo rukave za mentalno zdravlje"
ATTACH;FMTTYPE=image/png:https://udrugafenikssplit.com/wp-content/uploads/2022/04/Radno-okupacijske-FB-cover-event-vrtlarska-br-1.png
ORGANIZER;CN="Udruga Feniks Split":MAILTO:info@udrugafenikssplit.com
END:VEVENT
BEGIN:VEVENT
DTSTART;TZID=UTC:20220223T103000
DTEND;TZID=UTC:20220427T143000
DTSTAMP:20260424T200454
CREATED:20220221T120734Z
LAST-MODIFIED:20220408T200340Z
UID:1348-1645612200-1651069800@udrugafenikssplit.com
SUMMARY:Međunarodni temeljni trening IPS-a
DESCRIPTION:IPS = skraćenica za Intentional Peer Support (hrv. „ciljana kolegijalna podrška“) \nŠto je IPS? \nCiljana peer podrška je način na koji se razmišlja i aktivno radi na odnosima koji mijenjaju našu stvarnost.\nSudionici se uče služiti odnosima kako bi vidjeli situacije iz drugog kuta\, razvili veću svijest o osobnim obrascima i obrascima ponašanja u odnosima\, te podupirali i poticali jedni druge na iskušavanje nečeg novog. \nBaš kao improvizacija u glazbi\, IPS je proces eksperimentiranja i zajedničkog stvaranja; to je praksa u kojoj nema ispravnih ili pogrešnih odgovora i pod time se podrazumijeva da jedni druge nadopunjujemo kako bismo stvorili još zanimljivije i složenije načine međusobnog razumijevanja. \n„Sukladno rastu peer podrške mentalnom zdravlju\, moramo voditi računa o našoj namjeri\, a to je društvena promjena.\nNe radi se o razvijanju učinkovitijih usluga\, već o stvaranju dijaloga koji utječu na sva naša shvaćanja\, razgovore i odnose.“ – Shery Mead\, utemeljiteljica IPS-a \nNaposljetku\, temelj IPS-a jest izgrađivanje snažnijih\, zdravijih i međusobno povezanijih zajednica. \nNa ovom će treningu razmijeniti svoja osobna i stvoriti vrijedna nova zajednička iskustva polaznici iz Engleske\, Irske\, Norveške i Hrvatske\, uz stručno vodstvo certificiranih IPS trenera: Lisa Archibald (Škotska)\, Evan Fulton (Australija) i Hannah Morland-Jones (Wales). Edukacija se provodi na engleskom jeziku\, a kako bi sudionici izvukli maksimum iz ove obuke i unaprijed se pripremili za ovu uzbudljivu i jako im korisnu avanturu dobili su priručnik s temeljnim radnim materijalima ravno u svoje poštanske sandučiće\, kao i linkove s ključnim informacijama o IPS-u (http://www.intentionalpeersupport.org/articles/; IPS: Osobna retrospektiva /video/ https://youtu.be/Uuy96bAlkz8). Priručnik sa kopijama slajdova\, aktivnostima i člancima sudionici će koristiti za osobne bilješke tijekom treninga i mogu ga zadržati nakon završetka obuke.
URL:https://udrugafenikssplit.com/dogadanja/medunarodni-temeljni-trening-ips-a/
LOCATION:ZOOM platforma
CATEGORIES:Projekt "Zasučimo rukave za mentalno zdravlje"
ATTACH;FMTTYPE=image/png:https://udrugafenikssplit.com/wp-content/uploads/2022/02/IPS-trening-FB-post-3.png
ORGANIZER;CN="Udruga Feniks Split":MAILTO:info@udrugafenikssplit.com
END:VEVENT
END:VCALENDAR